BEGIN:VCALENDAR
VERSION:2.0
PRODID:-//SVP Wetzikon //NONSGML Events //EN
CALSCALE:GREGORIAN
X-WR-CALNAME:SVP Wetzikon
BEGIN:VEVENT
CREATED:20250912T122211Z
UID:5646
DTEND:20260519T000000
DTSTART:20260519T000000
DTSTAMP:20260421T090111Z
LOCATION:
DESCRIPTION:
SUMMARY:Vorstandssitzung
ORGANIZER:
URL;VALUE=URI:https://www.svp-wetzikon.ch/termine/vorstandssitzung-3/
TRANSP:OPAQUE
END:VEVENT
END:VCALENDAR
