BEGIN:VCALENDAR
VERSION:2.0
PRODID:-//SVP Wetzikon //NONSGML Events //EN
CALSCALE:GREGORIAN
X-WR-CALNAME:SVP Wetzikon
BEGIN:VEVENT
CREATED:20251111T091739Z
UID:5776
DTEND:20260221T000000
DTSTART:20260221T000000
DTSTAMP:20260421T101240Z
LOCATION:Winkel b. Bülach
DESCRIPTION:
SUMMARY:SVP Jass-Cup
ORGANIZER:
URL;VALUE=URI:https://www.svp-wetzikon.ch/termine/svp-jass-cup/
TRANSP:OPAQUE
END:VEVENT
END:VCALENDAR
