BEGIN:VCALENDAR
VERSION:2.0
PRODID:-//SVP Wetzikon //NONSGML Events //EN
CALSCALE:GREGORIAN
X-WR-CALNAME:SVP Wetzikon
BEGIN:VEVENT
CREATED:20251111T091558Z
UID:5778
DTEND:20260218T210000
DTSTART:20260218T200000
DTSTAMP:20260421T091858Z
LOCATION:Offen
DESCRIPTION:Liebe Parteikolleginnen und Parteikollegen,
leider müssen wir die fü
SUMMARY:Abstimmungsarena / SVP Bezirk Hinwil bi de Lüüt &#8211\; ABGESAGT
ORGANIZER:
URL;VALUE=URI:https://www.svp-wetzikon.ch/termine/abstimmungsarena-svp-bezirk-hinwil-bi-de-lueuet/
TRANSP:OPAQUE
END:VEVENT
END:VCALENDAR
